BEGIN:VCALENDAR
VERSION:2.0
PRODID:-//wp-events-plugin.com//7.2.3.1//EN
TZID:Europe/Berlin
X-WR-TIMEZONE:Europe/Berlin
BEGIN:VEVENT
UID:78@bk-ebersburg.de
DTSTART;TZID=Europe/Berlin:20261108T080000
DTEND;TZID=Europe/Berlin:20261108T160000
DTSTAMP:20260121T154723Z
URL:https://bk-ebersburg.de/termine/herbstpruefung-2/
SUMMARY:Herbstprüfung
DESCRIPTION:Unsere Herbstprüfung wird Leistungsrichter Wolfgang Appel vom 
 Bay. Landesverband für Hundesport richten.
LOCATION:Ebersburg (Thalau) Vereinsheim\, Am großen Rain\, 36157 Ebersburg
 \, Hessen\, 36157\, Rhön\, Deutschland
X-APPLE-STRUCTURED-LOCATION;VALUE=URI;X-ADDRESS=Am großen Rain\, 36157 Ebe
 rsburg\, Hessen\, 36157\, Rhön\, Deutschland;X-APPLE-RADIUS=100;X-TITLE=E
 bersburg (Thalau) Vereinsheim:geo:0,0
END:VEVENT
BEGIN:VTIMEZONE
TZID:Europe/Berlin
X-LIC-LOCATION:Europe/Berlin
BEGIN:STANDARD
DTSTART:20261025T020000
TZOFFSETFROM:+0200
TZOFFSETTO:+0100
TZNAME:CET
END:STANDARD
END:VTIMEZONE
END:VCALENDAR